BEGIN:VCALENDAR
VERSION:2.0
PRODID:-//Lycée Français de La Havane &quot;Alejo Carpentier&quot; - ECPv5.3.1//NONSGML v1.0//EN
CALSCALE:GREGORIAN
METHOD:PUBLISH
X-WR-CALNAME:Lycée Français de La Havane &quot;Alejo Carpentier&quot;
X-ORIGINAL-URL:https://lfih.org
X-WR-CALDESC:Events for Lycée Français de La Havane &quot;Alejo Carpentier&quot;
BEGIN:VTIMEZONE
TZID:America/Havana
BEGIN:DAYLIGHT
TZOFFSETFROM:-0500
TZOFFSETTO:-0400
TZNAME:CDT
DTSTART:20250309T050000
END:DAYLIGHT
BEGIN:STANDARD
TZOFFSETFROM:-0400
TZOFFSETTO:-0500
TZNAME:CST
DTSTART:20251102T050000
END:STANDARD
END:VTIMEZONE
BEGIN:VEVENT
DTSTART;TZID=America/Havana:20250412T080000
DTEND;TZID=America/Havana:20250412T170000
DTSTAMP:20260424T132355
CREATED:20250312T145810Z
LAST-MODIFIED:20250312T150203Z
UID:24300-1744444800-1744477200@lfih.org
SUMMARY:Open house day
DESCRIPTION:– This is an opportunity to welcome new families and find out what education at the Lycée Français is all about.\n– Fête des nations (Festival of Nations) organised by APE parents\n– Alejo Carpentier’ celebration: student work and productions
URL:https://lfih.org/index.php/event/open-house-day/
CATEGORIES:activités,éducation
END:VEVENT
END:VCALENDAR