BEGIN:VCALENDAR
VERSION:2.0
PRODID:-//Liceo Francés de La Habana &quot;Alejo Carpentier&quot; - ECPv5.3.1//NONSGML v1.0//EN
CALSCALE:GREGORIAN
METHOD:PUBLISH
X-WR-CALNAME:Liceo Francés de La Habana &quot;Alejo Carpentier&quot;
X-ORIGINAL-URL:https://lfih.org
X-WR-CALDESC:Eventos para Liceo Francés de La Habana &quot;Alejo Carpentier&quot;
BEGIN:VTIMEZONE
TZID:America/Havana
BEGIN:DAYLIGHT
TZOFFSETFROM:-0500
TZOFFSETTO:-0400
TZNAME:CDT
DTSTART:20250309T050000
END:DAYLIGHT
BEGIN:STANDARD
TZOFFSETFROM:-0400
TZOFFSETTO:-0500
TZNAME:CST
DTSTART:20251102T050000
END:STANDARD
END:VTIMEZONE
BEGIN:VEVENT
DTSTART;TZID=America/Havana:20250412T080000
DTEND;TZID=America/Havana:20250412T170000
DTSTAMP:20260424T150422
CREATED:20250312T150002Z
LAST-MODIFIED:20250312T150002Z
UID:24302-1744444800-1744477200@lfih.org
SUMMARY:Jornada puertas abiertas
DESCRIPTION:– Esta es una oportunidad para dar la bienvenida a las nuevas familias y descubrir en qué consiste la educación en el Lycée Français.\n– Fête des nations (Fiesta de las Naciones) organizada por los padres del APE\n– Fiesta «Alejo Carpentier»: trabajos y producciones de los alumnos
URL:https://lfih.org/index.php/event/jornada-puertas-abiertas/
CATEGORIES:actividades
END:VEVENT
END:VCALENDAR