BEGIN:VCALENDAR
VERSION:2.0
PRODID:-//Lycée Français de La Havane &quot;Alejo Carpentier&quot; - ECPv5.3.1//NONSGML v1.0//EN
CALSCALE:GREGORIAN
METHOD:PUBLISH
X-WR-CALNAME:Lycée Français de La Havane &quot;Alejo Carpentier&quot;
X-ORIGINAL-URL:https://lfih.org
X-WR-CALDESC:Events for Lycée Français de La Havane &quot;Alejo Carpentier&quot;
BEGIN:VTIMEZONE
TZID:America/Havana
BEGIN:DAYLIGHT
TZOFFSETFROM:-0500
TZOFFSETTO:-0400
TZNAME:CDT
DTSTART:20240310T050000
END:DAYLIGHT
BEGIN:STANDARD
TZOFFSETFROM:-0400
TZOFFSETTO:-0500
TZNAME:CST
DTSTART:20241103T050000
END:STANDARD
END:VTIMEZONE
BEGIN:VEVENT
DTSTART;TZID=America/Havana:20241126T120000
DTEND;TZID=America/Havana:20241126T170000
DTSTAMP:20260424T100308
CREATED:20241125T142335Z
LAST-MODIFIED:20241125T143149Z
UID:22611-1732622400-1732640400@lfih.org
SUMMARY:120th Anniversary of the birth of Alejo Carpentier
DESCRIPTION:To mark Alejo Carpentier’s 120th birthday\, the Year 10 class has been invited to take part in a treasure hunt in Havana on the theme of ‘The City of Columns’.
URL:https://lfih.org/index.php/event/120th-anniversary-of-the-birth-of-alejo-carpentier/
CATEGORIES:éducation
END:VEVENT
END:VCALENDAR